BEGIN:VCALENDAR
VERSION:2.0
PRODID:-//MGV Liedertafel Verl - ECPv3.11//NONSGML v1.0//EN
CALSCALE:GREGORIAN
METHOD:PUBLISH
X-WR-CALNAME:MGV Liedertafel Verl
X-ORIGINAL-URL:https://mgv-liedertafel-verl.de
X-WR-CALDESC:Events for MGV Liedertafel Verl
BEGIN:VEVENT
DTSTART:20260523T160000Z
DTEND:20260523T180000Z
DTSTAMP:20260420T234235Z
CREATED:20250711T134139Z
LAST-MODIFIED:20260223T212105Z
UID:11732-1779552000-1779559200@mgv-liedertafel-verl.de
SUMMARY:Jubiläumskonzert 100 Jahre MGV
DESCRIPTION:
URL:https://mgv-liedertafel-verl.de/event/jubilaeumskonzert-100-jahre-mgv/
LOCATION:Paderborner Straße 408\, Verl\, 33415
CATEGORIES:Konzerte
END:VEVENT
END:VCALENDAR