BEGIN:VCALENDAR
VERSION:2.0
PRODID:-//MGV Liedertafel Verl - ECPv3.11//NONSGML v1.0//EN
CALSCALE:GREGORIAN
METHOD:PUBLISH
X-WR-CALNAME:MGV Liedertafel Verl
X-ORIGINAL-URL:https://mgv-liedertafel-verl.de
X-WR-CALDESC:Events for MGV Liedertafel Verl
BEGIN:VEVENT
DTSTART:20260227T173000Z
DTEND:20260227T190000Z
DTSTAMP:20260421T002038Z
CREATED:20251227T135958Z
LAST-MODIFIED:20260125T082016Z
UID:11822-1772213400-1772218800@mgv-liedertafel-verl.de
SUMMARY:Jahreshauptversammlung
DESCRIPTION:
URL:https://mgv-liedertafel-verl.de/event/jahreshauptversammlung-7/
LOCATION:Hauptstr. 26\, Verl\, 33415
GEO:8.5078651;51.88434
X-APPLE-STRUCTURED-LOCATION;VALUE=URI;X-ADDRESS=Hauptstr. 26 Verl 33415;X-APPLE-RADIUS=500;X-TITLE=Hauptstr. 26:geo:8.5078651,51.88434
CATEGORIES:Wichtige Termine
END:VEVENT
END:VCALENDAR